BEGIN:VCALENDAR
VERSION:2.0
PRODID:-//Village Improvement Association of Doylestown - ECPv6.15.18//NONSGML v1.0//EN
CALSCALE:GREGORIAN
METHOD:PUBLISH
X-ORIGINAL-URL:https://via-doylestown.org
X-WR-CALDESC:Events for Village Improvement Association of Doylestown
REFRESH-INTERVAL;VALUE=DURATION:PT1H
X-Robots-Tag:noindex
X-PUBLISHED-TTL:PT1H
BEGIN:VTIMEZONE
TZID:America/New_York
BEGIN:DAYLIGHT
TZOFFSETFROM:-0500
TZOFFSETTO:-0400
TZNAME:EDT
DTSTART:20250309T070000
END:DAYLIGHT
BEGIN:STANDARD
TZOFFSETFROM:-0400
TZOFFSETTO:-0500
TZNAME:EST
DTSTART:20251102T060000
END:STANDARD
BEGIN:DAYLIGHT
TZOFFSETFROM:-0500
TZOFFSETTO:-0400
TZNAME:EDT
DTSTART:20260308T070000
END:DAYLIGHT
BEGIN:STANDARD
TZOFFSETFROM:-0400
TZOFFSETTO:-0500
TZNAME:EST
DTSTART:20261101T060000
END:STANDARD
BEGIN:DAYLIGHT
TZOFFSETFROM:-0500
TZOFFSETTO:-0400
TZNAME:EDT
DTSTART:20270314T070000
END:DAYLIGHT
BEGIN:STANDARD
TZOFFSETFROM:-0400
TZOFFSETTO:-0500
TZNAME:EST
DTSTART:20271107T060000
END:STANDARD
END:VTIMEZONE
BEGIN:VEVENT
DTSTART;VALUE=DATE:20260501
DTEND;VALUE=DATE:20260531
DTSTAMP:20260425T232955
CREATED:20251219T195232Z
LAST-MODIFIED:20260210T002009Z
UID:12958-1777593600-1780185599@via-doylestown.org
SUMMARY:Read our Message to our Designer House Partners on the 2026 Cancellation
DESCRIPTION:Learn Why the VIA is Not Holding a 2026 Bucks County Designer House & Gardens\nWe recently sent the following message to our many faithful partners who’ve helped with our past Designer Houses.\n \nClick HERE to learn about our REACH initiative which is already supporting our local mental well-being partners! \nYou can still enjoy some of the pictures from our 2025 House: Hidden Trail Farm. Click Here.
URL:https://via-doylestown.org/event/read-our-message-to-our-designer-house-partners-on-the-2026-cancellation/
LOCATION:PA
END:VEVENT
END:VCALENDAR